BEGIN:VCALENDAR
VERSION:2.0
PRODID:-//Morrison Campground - ECPv6.5.1.6//NONSGML v1.0//EN
CALSCALE:GREGORIAN
METHOD:PUBLISH
X-ORIGINAL-URL:http://morrisoncampground.org
X-WR-CALDESC:Events for Morrison Campground
REFRESH-INTERVAL;VALUE=DURATION:PT1H
X-Robots-Tag:noindex
X-PUBLISHED-TTL:PT1H
BEGIN:VTIMEZONE
TZID:America/New_York
BEGIN:DAYLIGHT
TZOFFSETFROM:-0500
TZOFFSETTO:-0400
TZNAME:EDT
DTSTART:20230312T070000
END:DAYLIGHT
BEGIN:STANDARD
TZOFFSETFROM:-0400
TZOFFSETTO:-0500
TZNAME:EST
DTSTART:20231105T060000
END:STANDARD
END:VTIMEZONE
BEGIN:VEVENT
DTSTART;TZID=America/New_York:20230715T110000
DTEND;TZID=America/New_York:20230715T120000
DTSTAMP:20260422T182702
CREATED:20230715T043414Z
LAST-MODIFIED:20230715T043414Z
UID:1362-1689418800-1689422400@morrisoncampground.org
SUMMARY:Morning Service - Jeff Gravitt Preaching
DESCRIPTION:Morning Service – Jeff Gravitt Preaching  Starts at 11:00 Am
URL:http://morrisoncampground.org/event/morning-service-jeff-gravitt-preaching/
END:VEVENT
BEGIN:VEVENT
DTSTART;TZID=America/New_York:20230715T170000
DTEND;TZID=America/New_York:20230715T190000
DTSTAMP:20260422T182702
CREATED:20230715T043524Z
LAST-MODIFIED:20230715T043524Z
UID:1364-1689440400-1689447600@morrisoncampground.org
SUMMARY:Don Neo Taco Food Truck
DESCRIPTION:Don Neo Taco Food Truck 5:00 pm – 7:00 pm
URL:http://morrisoncampground.org/event/don-neo-taco-food-truck/
END:VEVENT
BEGIN:VEVENT
DTSTART;TZID=America/New_York:20230715T193000
DTEND;TZID=America/New_York:20230715T210000
DTSTAMP:20260422T182702
CREATED:20230715T043744Z
LAST-MODIFIED:20230715T043744Z
UID:1366-1689449400-1689454800@morrisoncampground.org
SUMMARY:Evening Service - Dr. Aaron Johnson Preaching
DESCRIPTION:Evening Service – Dr. Aaron Johnson Preaching  Starts at 7:30 Pm
URL:http://morrisoncampground.org/event/evening-service-dr-aaron-johnson-preaching/
END:VEVENT
BEGIN:VEVENT
DTSTART;TZID=America/New_York:20230716T193000
DTEND;TZID=America/New_York:20230716T210000
DTSTAMP:20260422T182702
CREATED:20230715T044446Z
LAST-MODIFIED:20230715T044446Z
UID:1376-1689535800-1689541200@morrisoncampground.org
SUMMARY:Evening Service- Jeff Gravitt Preaching
DESCRIPTION:Evening Service- Jeff Gravitt Preaching Starts at 7:30 PM
URL:http://morrisoncampground.org/event/evening-service-jeff-gravitt-preaching/
END:VEVENT
BEGIN:VEVENT
DTSTART;TZID=America/New_York:20230717T103000
DTEND;TZID=America/New_York:20230717T120000
DTSTAMP:20260422T182702
CREATED:20230715T044756Z
LAST-MODIFIED:20230715T044756Z
UID:1382-1689589800-1689595200@morrisoncampground.org
SUMMARY:VBS\, Youth Building
DESCRIPTION:VBS\, Youth Building Starts at 10:30 AM – 12:00 AM
URL:http://morrisoncampground.org/event/vbs-youth-building/
END:VEVENT
BEGIN:VEVENT
DTSTART;TZID=America/New_York:20230717T110000
DTEND;TZID=America/New_York:20230717T120000
DTSTAMP:20260422T182702
CREATED:20230715T045118Z
LAST-MODIFIED:20230715T045118Z
UID:1392-1689591600-1689595200@morrisoncampground.org
SUMMARY:Bible Study - Dr. Gill Watson
DESCRIPTION:Bible Study – Dr. Gill Watson starts at 11:00 AM
URL:http://morrisoncampground.org/event/bible-study-dr-gill-watson/
END:VEVENT
BEGIN:VEVENT
DTSTART;TZID=America/New_York:20230717T193000
DTEND;TZID=America/New_York:20230717T210000
DTSTAMP:20260422T182702
CREATED:20230715T043825Z
LAST-MODIFIED:20230715T043825Z
UID:1368-1689622200-1689627600@morrisoncampground.org
SUMMARY:Evening Service - Dr. Aaron Johnson Preaching
DESCRIPTION:Evening Service – Dr. Aaron Johnson Preaching  Starts at 7:30 Pm
URL:http://morrisoncampground.org/event/evening-service-dr-aaron-johnson-preaching-2/
END:VEVENT
BEGIN:VEVENT
DTSTART;TZID=America/New_York:20230718T103000
DTEND;TZID=America/New_York:20230718T120000
DTSTAMP:20260422T182702
CREATED:20230715T044842Z
LAST-MODIFIED:20230715T044842Z
UID:1384-1689676200-1689681600@morrisoncampground.org
SUMMARY:VBS\, Youth Building
DESCRIPTION:VBS\, Youth Building Starts at 10:30 AM – 12:00 AM
URL:http://morrisoncampground.org/event/vbs-youth-building-2/
END:VEVENT
BEGIN:VEVENT
DTSTART;TZID=America/New_York:20230718T110000
DTEND;TZID=America/New_York:20230718T120000
DTSTAMP:20260422T182702
CREATED:20230715T045159Z
LAST-MODIFIED:20230715T045159Z
UID:1394-1689678000-1689681600@morrisoncampground.org
SUMMARY:Bible Study - Dr. Gill Watson
DESCRIPTION:Bible Study – Dr. Gill Watson starts at 11:00 AM
URL:http://morrisoncampground.org/event/bible-study-dr-gill-watson-2/
END:VEVENT
BEGIN:VEVENT
DTSTART;TZID=America/New_York:20230718T170000
DTEND;TZID=America/New_York:20230718T190000
DTSTAMP:20260422T182702
CREATED:20230715T045535Z
LAST-MODIFIED:20230715T051529Z
UID:1404-1689699600-1689706800@morrisoncampground.org
SUMMARY:D&B Just Like Me Food Truck
DESCRIPTION:D&V Sweets Like Me Food Truck (Philly Cheese steaks sandwiches / Chicken Fingers
URL:http://morrisoncampground.org/event/dv-sweets-like-me-food-truck/
END:VEVENT
BEGIN:VEVENT
DTSTART;TZID=America/New_York:20230718T193000
DTEND;TZID=America/New_York:20230718T210000
DTSTAMP:20260422T182702
CREATED:20230715T044555Z
LAST-MODIFIED:20230715T044555Z
UID:1378-1689708600-1689714000@morrisoncampground.org
SUMMARY:Evening Service- Jeff Gravitt Preaching
DESCRIPTION:Evening Service- Jeff Gravitt Preaching Starts at 7:30 PM
URL:http://morrisoncampground.org/event/evening-service-jeff-gravitt-preaching-2/
END:VEVENT
BEGIN:VEVENT
DTSTART;TZID=America/New_York:20230719T103000
DTEND;TZID=America/New_York:20230719T120000
DTSTAMP:20260422T182702
CREATED:20230715T044855Z
LAST-MODIFIED:20230715T044855Z
UID:1385-1689762600-1689768000@morrisoncampground.org
SUMMARY:VBS\, Youth Building
DESCRIPTION:VBS\, Youth Building Starts at 10:30 AM – 12:00 AM
URL:http://morrisoncampground.org/event/vbs-youth-building-3/
END:VEVENT
BEGIN:VEVENT
DTSTART;TZID=America/New_York:20230719T110000
DTEND;TZID=America/New_York:20230719T120000
DTSTAMP:20260422T182702
CREATED:20230715T045212Z
LAST-MODIFIED:20230715T045212Z
UID:1395-1689764400-1689768000@morrisoncampground.org
SUMMARY:Bible Study - Dr. Gill Watson
DESCRIPTION:Bible Study – Dr. Gill Watson starts at 11:00 AM
URL:http://morrisoncampground.org/event/bible-study-dr-gill-watson-3/
END:VEVENT
BEGIN:VEVENT
DTSTART;TZID=America/New_York:20230720T103000
DTEND;TZID=America/New_York:20230720T120000
DTSTAMP:20260422T182702
CREATED:20230715T044910Z
LAST-MODIFIED:20230715T044910Z
UID:1387-1689849000-1689854400@morrisoncampground.org
SUMMARY:VBS\, Youth Building
DESCRIPTION:VBS\, Youth Building Starts at 10:30 AM – 12:00 AM
URL:http://morrisoncampground.org/event/vbs-youth-building-4/
END:VEVENT
BEGIN:VEVENT
DTSTART;TZID=America/New_York:20230720T110000
DTEND;TZID=America/New_York:20230720T120000
DTSTAMP:20260422T182702
CREATED:20230715T045225Z
LAST-MODIFIED:20230715T045225Z
UID:1396-1689850800-1689854400@morrisoncampground.org
SUMMARY:Bible Study - Dr. Gill Watson
DESCRIPTION:Bible Study – Dr. Gill Watson starts at 11:00 AM
URL:http://morrisoncampground.org/event/bible-study-dr-gill-watson-4/
END:VEVENT
BEGIN:VEVENT
DTSTART;TZID=America/New_York:20230720T170000
DTEND;TZID=America/New_York:20230720T190000
DTSTAMP:20260422T182702
CREATED:20230715T050228Z
LAST-MODIFIED:20230715T050228Z
UID:1412-1689872400-1689879600@morrisoncampground.org
SUMMARY:Pizza Roma Food Truck
DESCRIPTION:Pizza Roma Food Truck
URL:http://morrisoncampground.org/event/pizza-roma-food-truck/
END:VEVENT
BEGIN:VEVENT
DTSTART;TZID=America/New_York:20230721T110000
DTEND;TZID=America/New_York:20230721T120000
DTSTAMP:20260422T182702
CREATED:20230715T045246Z
LAST-MODIFIED:20230715T045246Z
UID:1397-1689937200-1689940800@morrisoncampground.org
SUMMARY:Bible Study - Dr. Gill Watson
DESCRIPTION:Bible Study – Dr. Gill Watson starts at 11:00 AM
URL:http://morrisoncampground.org/event/bible-study-dr-gill-watson-5/
END:VEVENT
BEGIN:VEVENT
DTSTART;TZID=America/New_York:20230722T193000
DTEND;TZID=America/New_York:20230722T210000
DTSTAMP:20260422T182702
CREATED:20230715T050957Z
LAST-MODIFIED:20230715T050957Z
UID:1426-1690054200-1690059600@morrisoncampground.org
SUMMARY:Evening Service - Guntersville FBC Pickers
DESCRIPTION:Evening Service – Guntersville FBC Pickers
URL:http://morrisoncampground.org/event/evening-service-guntersville-fbc-pickers/
END:VEVENT
END:VCALENDAR