BEGIN:VCALENDAR
VERSION:2.0
PRODID:-//Morrison Campground - ECPv6.5.1.6//NONSGML v1.0//EN
CALSCALE:GREGORIAN
METHOD:PUBLISH
X-WR-CALNAME:Morrison Campground
X-ORIGINAL-URL:http://morrisoncampground.org
X-WR-CALDESC:Events for Morrison Campground
REFRESH-INTERVAL;VALUE=DURATION:PT1H
X-Robots-Tag:noindex
X-PUBLISHED-TTL:PT1H
BEGIN:VTIMEZONE
TZID:America/New_York
BEGIN:DAYLIGHT
TZOFFSETFROM:-0500
TZOFFSETTO:-0400
TZNAME:EDT
DTSTART:20240310T070000
END:DAYLIGHT
BEGIN:STANDARD
TZOFFSETFROM:-0400
TZOFFSETTO:-0500
TZNAME:EST
DTSTART:20241103T060000
END:STANDARD
END:VTIMEZONE
BEGIN:VEVENT
DTSTART;TZID=America/New_York:20240714T110000
DTEND;TZID=America/New_York:20240714T120000
DTSTAMP:20260422T045712
CREATED:20230715T043939Z
LAST-MODIFIED:20240715T024957Z
UID:1370-1720954800-1720958400@morrisoncampground.org
SUMMARY:Memorial Service - Gil Watson Preaching
DESCRIPTION:Memorial Service – Gil Watson Preaching starts at 11:00 AM
URL:http://morrisoncampground.org/event/memorial-service-gil-watson-preaching/
END:VEVENT
BEGIN:VEVENT
DTSTART;TZID=America/New_York:20240714T123000
DTEND;TZID=America/New_York:20240714T133000
DTSTAMP:20260422T045712
CREATED:20230715T044153Z
LAST-MODIFIED:20240715T025114Z
UID:1372-1720960200-1720963800@morrisoncampground.org
SUMMARY:Dinner On The Grounds
DESCRIPTION:Dinner on the Grounds by Pick A Deli Reservations in advance \nChildren under 3 Eat Free \nChildren 4 – 10 $5 \nAges 11 and Older: $15
URL:http://morrisoncampground.org/event/dinner-on-the-grounds-2/
END:VEVENT
BEGIN:VEVENT
DTSTART;TZID=America/New_York:20240714T143000
DTEND;TZID=America/New_York:20240714T153000
DTSTAMP:20260422T045712
CREATED:20230715T044253Z
LAST-MODIFIED:20240715T024910Z
UID:1374-1720967400-1720971000@morrisoncampground.org
SUMMARY:Ole Timers Wiffle Ball Game
DESCRIPTION:Ole Timers Ball Game
URL:http://morrisoncampground.org/event/ole-timers-ball-game-2/
END:VEVENT
BEGIN:VEVENT
DTSTART;TZID=America/New_York:20240714T193000
DTEND;TZID=America/New_York:20240714T210000
DTSTAMP:20260422T045712
CREATED:20240715T025720Z
LAST-MODIFIED:20240715T025720Z
UID:1467-1720985400-1720990800@morrisoncampground.org
SUMMARY:Evening Service - Adam Colston Preaching
DESCRIPTION:Evening Service – Adam Colston – Pastor of We the Church
URL:http://morrisoncampground.org/event/evening-service-adam-colston-preaching/
END:VEVENT
END:VCALENDAR