BEGIN:VCALENDAR
VERSION:2.0
PRODID:-//Morrison Campground - ECPv6.5.1.6//NONSGML v1.0//EN
CALSCALE:GREGORIAN
METHOD:PUBLISH
X-WR-CALNAME:Morrison Campground
X-ORIGINAL-URL:http://morrisoncampground.org
X-WR-CALDESC:Events for Morrison Campground
REFRESH-INTERVAL;VALUE=DURATION:PT1H
X-Robots-Tag:noindex
X-PUBLISHED-TTL:PT1H
BEGIN:VTIMEZONE
TZID:America/New_York
BEGIN:DAYLIGHT
TZOFFSETFROM:-0500
TZOFFSETTO:-0400
TZNAME:EDT
DTSTART:20240310T070000
END:DAYLIGHT
BEGIN:STANDARD
TZOFFSETFROM:-0400
TZOFFSETTO:-0500
TZNAME:EST
DTSTART:20241103T060000
END:STANDARD
END:VTIMEZONE
BEGIN:VEVENT
DTSTART;TZID=America/New_York:20240712T193000
DTEND;TZID=America/New_York:20240712T210000
DTSTAMP:20260422T045711
CREATED:20230715T042920Z
LAST-MODIFIED:20240715T025308Z
UID:1358-1720812600-1720818000@morrisoncampground.org
SUMMARY:Opening Evening Service - David Chupp
DESCRIPTION:Opening Evening Service – David Chupp Starts at 7:30 PM
URL:http://morrisoncampground.org/event/opening-evening-service-laura-dickerson/
LOCATION:Morrison Campground\, GA\, United States
END:VEVENT
BEGIN:VEVENT
DTSTART;TZID=America/New_York:20240712T210000
DTEND;TZID=America/New_York:20240712T213000
DTSTAMP:20260422T045711
CREATED:20230715T043312Z
LAST-MODIFIED:20240715T025339Z
UID:1360-1720818000-1720819800@morrisoncampground.org
SUMMARY:Tent-holders Meeting Following Service
DESCRIPTION:Tent-holders Meeting Following Service
URL:http://morrisoncampground.org/event/tent-holders-meeting-following-service/
END:VEVENT
END:VCALENDAR